BEGIN:VCALENDAR
VERSION:2.0
PRODID:-//International German Genealogy Partnership - ECPv6.15.20//NONSGML v1.0//EN
CALSCALE:GREGORIAN
METHOD:PUBLISH
X-ORIGINAL-URL:https://iggp.org
X-WR-CALDESC:Events for International German Genealogy Partnership
REFRESH-INTERVAL;VALUE=DURATION:PT1H
X-Robots-Tag:noindex
X-PUBLISHED-TTL:PT1H
BEGIN:VTIMEZONE
TZID:America/Denver
BEGIN:DAYLIGHT
TZOFFSETFROM:-0700
TZOFFSETTO:-0600
TZNAME:MDT
DTSTART:20240310T090000
END:DAYLIGHT
BEGIN:STANDARD
TZOFFSETFROM:-0600
TZOFFSETTO:-0700
TZNAME:MST
DTSTART:20241103T080000
END:STANDARD
BEGIN:DAYLIGHT
TZOFFSETFROM:-0700
TZOFFSETTO:-0600
TZNAME:MDT
DTSTART:20250309T090000
END:DAYLIGHT
BEGIN:STANDARD
TZOFFSETFROM:-0600
TZOFFSETTO:-0700
TZNAME:MST
DTSTART:20251102T080000
END:STANDARD
BEGIN:DAYLIGHT
TZOFFSETFROM:-0700
TZOFFSETTO:-0600
TZNAME:MDT
DTSTART:20260308T090000
END:DAYLIGHT
BEGIN:STANDARD
TZOFFSETFROM:-0600
TZOFFSETTO:-0700
TZNAME:MST
DTSTART:20261101T080000
END:STANDARD
BEGIN:DAYLIGHT
TZOFFSETFROM:-0700
TZOFFSETTO:-0600
TZNAME:MDT
DTSTART:20270314T090000
END:DAYLIGHT
BEGIN:STANDARD
TZOFFSETFROM:-0600
TZOFFSETTO:-0700
TZNAME:MST
DTSTART:20271107T080000
END:STANDARD
END:VTIMEZONE
BEGIN:VTIMEZONE
TZID:Europe/Vienna
BEGIN:DAYLIGHT
TZOFFSETFROM:+0100
TZOFFSETTO:+0200
TZNAME:CEST
DTSTART:20250330T010000
END:DAYLIGHT
BEGIN:STANDARD
TZOFFSETFROM:+0200
TZOFFSETTO:+0100
TZNAME:CET
DTSTART:20251026T010000
END:STANDARD
BEGIN:DAYLIGHT
TZOFFSETFROM:+0100
TZOFFSETTO:+0200
TZNAME:CEST
DTSTART:20260329T010000
END:DAYLIGHT
BEGIN:STANDARD
TZOFFSETFROM:+0200
TZOFFSETTO:+0100
TZNAME:CET
DTSTART:20261025T010000
END:STANDARD
BEGIN:DAYLIGHT
TZOFFSETFROM:+0100
TZOFFSETTO:+0200
TZNAME:CEST
DTSTART:20270328T010000
END:DAYLIGHT
BEGIN:STANDARD
TZOFFSETFROM:+0200
TZOFFSETTO:+0100
TZNAME:CET
DTSTART:20271031T010000
END:STANDARD
END:VTIMEZONE
BEGIN:VEVENT
DTSTART;TZID=America/Denver:20260210T190000
DTEND;TZID=America/Denver:20260210T190000
DTSTAMP:20260419T131406
CREATED:20260204T171358Z
LAST-MODIFIED:20260204T171403Z
UID:8739-1770750000-1770750000@iggp.org
SUMMARY:Roland-Online-Vortrag
DESCRIPTION:This is a partner event. Münsterberg.org – Eine Erfolgsgeschichte mit dem Referenten Christoph Bleischwitz. Teilnahmemöglichkeit. \n\n\n\n\n\nCentral Europe time zone | online | German
URL:https://iggp.org/event/roland-online-vortrag-6/
ATTACH;FMTTYPE=image/png:https://iggp.org/wp-content/uploads/2024/10/roland.png
END:VEVENT
BEGIN:VEVENT
DTSTART;TZID=America/Denver:20260209T180000
DTEND;TZID=America/Denver:20260209T180000
DTSTAMP:20260419T131406
CREATED:20260127T165250Z
LAST-MODIFIED:20260127T165429Z
UID:8716-1770660000-1770660000@iggp.org
SUMMARY:Monthly focus group
DESCRIPTION:This is a partner event. Share our knowledge\, struggles and finds with each other. Topic: Presentation of Matricula and Archion\, the two main church record sites in Germany. Register. \n\n\n\n\n\nMountain time zone | online |English
URL:https://iggp.org/event/monthly-focus-group/
ATTACH;FMTTYPE=image/png:https://iggp.org/wp-content/uploads/2026/01/colorado-palam.png
END:VEVENT
BEGIN:VEVENT
DTSTART;TZID=America/Denver:20260207T100000
DTEND;TZID=America/Denver:20260207T120000
DTSTAMP:20260419T131406
CREATED:20251122T230409Z
LAST-MODIFIED:20251122T230414Z
UID:8515-1770458400-1770465600@iggp.org
SUMMARY:Using Artificial Intelligence in Genealogy: Free Virtual Collaborative Learning Session
DESCRIPTION:This is a partner event. Curious about how AI can enhance your genealogical research? Join us for a FREE Zoom session exploring AI tools and applications for genealogists. Patty Wiseman will introduce AI basics and demonstrate how chatbots like ChatGPT can assist researchers. Andrea Ackermann will then demonstrate how AI can enhance your research planning\, aid in discovering hidden records\, and offer new perspectives. Both presentations include time for sharing experiences and questions. No experience necessary—whether you’re new to AI or already using it\, let’s learn together! Register: Email your name and email address to Indianapalam@gmail.com with “CLS” in the subject line.  \n\n\n\n\n\nEastern time zone | online | English
URL:https://iggp.org/event/using-artificial-intelligence-in-genealogy-free-virtual-collaborative-learning-session/
ATTACH;FMTTYPE=image/png:https://iggp.org/wp-content/uploads/2025/11/Indy.png
END:VEVENT
BEGIN:VEVENT
DTSTART;TZID=America/Denver:20260206T123000
DTEND;TZID=America/Denver:20260206T143000
DTSTAMP:20260419T131406
CREATED:20260116T181612Z
LAST-MODIFIED:20260116T181617Z
UID:8674-1770381000-1770388200@iggp.org
SUMMARY:Swiss Essentials: Locating Church Records & Understanding the Impact of Citizenship
DESCRIPTION:This is a partner event. Presenter: Charlotte Noelle Champenois. Gain an understanding of the essential research tools for researching your ancestors from Switzerland. Learn how to use the Register of Swiss Surnames\, Ortsnamen.ch (Swiss maps website)\, and parish pages on the FamilySearch Wiki to figure out correct localities and locate genealogical records. Discover how Switzerland’s unique system of citizenship plays into record creation and access and how to determine where your Swiss ancestors held citizenship. Register. \n\n\n\n\n\nPacific time zone | online  | English
URL:https://iggp.org/event/swiss-essentials-locating-church-records-understanding-the-impact-of-citizenship/
ATTACH;FMTTYPE=image/jpeg:https://iggp.org/wp-content/uploads/2026/01/Champenois-Charlotte-scaled.jpg
END:VEVENT
BEGIN:VEVENT
DTSTART;TZID=America/Denver:20260206T000000
DTEND;TZID=America/Denver:20260206T235959
DTSTAMP:20260419T131406
CREATED:20251221T192422Z
LAST-MODIFIED:20251221T192427Z
UID:8551-1770336000-1770422399@iggp.org
SUMMARY:Genealogica 2026
DESCRIPTION:The Genealogica 2026 once again offers a platform where family researchers\, genealogical associations\, public and private institutions\, genealogical service providers of all kinds as well as providers with a genealogical and historical reference can come together virtually for 17 days\, Feb. 6 to Feb. 22. There will be a rich lecture and workshop program\, spread over the first weekend and the following week. Details. \n\n\n\n\n\nCentral Europe time zone | online |German
URL:https://iggp.org/event/genealogica-2026/
ATTACH;FMTTYPE=image/png:https://iggp.org/wp-content/uploads/2025/01/Genealogica.png
END:VEVENT
BEGIN:VEVENT
DTSTART;TZID=America/Denver:20260205T193000
DTEND;TZID=America/Denver:20260205T193000
DTSTAMP:20260419T131406
CREATED:20260124T163739Z
LAST-MODIFIED:20260124T163743Z
UID:8709-1770319800-1770319800@iggp.org
SUMMARY:New York City Municipal Archives
DESCRIPTION:This is a partner event. Presenter: Susan R. Miller. This presentation will explore record collections held by the New York City Municipal Archives. This vast trove holds details of New York City residents and sometimes of those passing through the city. Online for members only. Become a member.
URL:https://iggp.org/event/new-york-city-municipal-archives/
ATTACH;FMTTYPE=image/png:https://iggp.org/wp-content/uploads/2024/11/German-GS-NY.png
END:VEVENT
BEGIN:VEVENT
DTSTART;TZID=America/Denver:20260205T190000
DTEND;TZID=America/Denver:20260205T190000
DTSTAMP:20260419T131406
CREATED:20260204T171935Z
LAST-MODIFIED:20260204T171940Z
UID:8741-1770318000-1770318000@iggp.org
SUMMARY:Deutsche in Brasilien - Geschichte und Forschungsquellen
DESCRIPTION:This is a partner event. Online-Vortrag mit dem Referenten Andre Hamann (Genealogia RS\, Brasilien). Teilnahmemöglichkeit. \n\n\n\n\n\nCentral Europe time zone | online | German
URL:https://iggp.org/event/deutsche-in-brasilien-geschichte-und-forschungsquellen/
ATTACH;FMTTYPE=image/jpeg:https://iggp.org/wp-content/uploads/2024/01/ahnenlogo.jpg
END:VEVENT
BEGIN:VEVENT
DTSTART;TZID=Europe/Vienna:20260204T180000
DTEND;TZID=Europe/Vienna:20260204T180000
DTSTAMP:20260419T131406
CREATED:20260127T170837Z
LAST-MODIFIED:20260127T170937Z
UID:8721-1770228000-1770228000@iggp.org
SUMMARY:Mähren: Die Kirchenbücher habe ich alle durch!
DESCRIPTION:*This is a partner event. Was gibt es sonst an digitalisierten Quellen\, die mir mehr über meine Vorfahren erzählen? Vortragende: Christina KAUL. Bitte hier anmelden. \n\n\n\n\n\nCentral Europe time zone | online | German
URL:https://iggp.org/event/mahren-die-kirchenbucher-habe-ich-alle-durch/
ATTACH;FMTTYPE=image/jpeg:https://iggp.org/wp-content/uploads/2023/11/familieaustriadefault.jpg
END:VEVENT
BEGIN:VEVENT
DTSTART;TZID=Europe/Vienna:20260128T180000
DTEND;TZID=Europe/Vienna:20260128T180000
DTSTAMP:20260419T131406
CREATED:20251231T220843Z
LAST-MODIFIED:20251231T220847Z
UID:8622-1769623200-1769623200@iggp.org
SUMMARY:Tod & Trauer. Der Umgang mit Verstorbenen durch die Jahrhunderte
DESCRIPTION:*This is a partner event. Vortragende: Alexandra MÜLLER MA. Bitte hier anmelden. \n\n\n\n\n\nCentral Europe time zone | online | German
URL:https://iggp.org/event/tod-trauer-der-umgang-mit-verstorbenen-durch-die-jahrhunderte/
ATTACH;FMTTYPE=image/jpeg:https://iggp.org/wp-content/uploads/2023/11/familieaustriadefault.jpg
END:VEVENT
BEGIN:VEVENT
DTSTART;TZID=America/Denver:20260126T190000
DTEND;TZID=America/Denver:20260126T190000
DTSTAMP:20260419T131406
CREATED:20260120T164140Z
LAST-MODIFIED:20260120T164145Z
UID:8706-1769454000-1769454000@iggp.org
SUMMARY:Online-DNA-Genealogie-Stammtisch
DESCRIPTION:This is a partner event. Tipps und Hilfen rund um die DNA-Genealogie! Einlass in den Zoom-Meeting-Raum ab 18.30 Uhr.Es können maximal 100 Interessierte teilnehmen. Daher empfiehlt es sich\, sich frühzeitig einzuloggen. Einladung mit Teilnahmemöglichkeit. \n\n\n\n\n\nCentral European time zone | online | German
URL:https://iggp.org/event/online-dna-genealogie-stammtisch-11/
ATTACH;FMTTYPE=image/jpeg:https://iggp.org/wp-content/uploads/2024/01/ahnenlogo.jpg
END:VEVENT
BEGIN:VEVENT
DTSTART;TZID=America/Denver:20260122T200000
DTEND;TZID=America/Denver:20260122T211500
DTSTAMP:20260419T131406
CREATED:20251221T171809Z
LAST-MODIFIED:20251221T171818Z
UID:8529-1769112000-1769116500@iggp.org
SUMMARY:Mountain Peaks and Trails: Your Swiss Ancestral Journey
DESCRIPTION:*This is a partner event. Presenter: Gail Blankenau. Tracing Swiss ancestors requires a different mindset—and the right tools. In this webinar\, you’ll be introduced to the distinctive features of Swiss genealogy\, including church records and their tie to religious tradition\, research challenges created by Switzerland’s official languages\, and the uniquely Swiss concept of citizenship.  Using three real-life case studies\, this program demonstrates how U.S. records can point the way to Swiss sources and how Swiss records\, in turn\, can unlock generations of family history. You’ll learn where to find digitized Swiss church records\, helpful maps\, how to make the most of key online portals\, and why the Register of Swiss Surnames is such a useful research tool. Whether you’re new to Swiss research or looking to break through a stubborn brick wall\, this session will equip you with proven strategies and practical examples. Register. \n\n\n\n\n\nCentral time zone | online | English
URL:https://iggp.org/event/mountain-peaks-and-trails-your-swiss-ancestral-journey/
ATTACH;FMTTYPE=image/jpeg:https://iggp.org/wp-content/uploads/2024/08/Gail-Blankenau.jpg
END:VEVENT
BEGIN:VEVENT
DTSTART;TZID=America/Denver:20260122T190000
DTEND;TZID=America/Denver:20260122T190000
DTSTAMP:20260419T131406
CREATED:20260119T165805Z
LAST-MODIFIED:20260119T165809Z
UID:8686-1769108400-1769108400@iggp.org
SUMMARY:Macstammbaum-Online-Anwendertreffen
DESCRIPTION:This is a partner event. Tipps und Hilfen zur preisgekrönten Genealogie-Software für Mac\, iPad und iPhone mit dem CEO der Herstellerfirma Synium Software\, Benjamin Günther. Einladung mit Teilnahmemöglichkeit. \n\n\n\nam Donnerstag\, dem 22. Januar 2026 um 19.00 Uhr. \n\n\n\n\n\nCentral Europe time zone | online |German
URL:https://iggp.org/event/macstammbaum-online-anwendertreffen/
ATTACH;FMTTYPE=image/jpeg:https://iggp.org/wp-content/uploads/2024/01/ahnenlogo.jpg
END:VEVENT
BEGIN:VEVENT
DTSTART;TZID=Europe/Vienna:20260121T180000
DTEND;TZID=Europe/Vienna:20260121T180000
DTSTAMP:20260419T131406
CREATED:20251231T220558Z
LAST-MODIFIED:20251231T220602Z
UID:8621-1769018400-1769018400@iggp.org
SUMMARY:Jede Familiengeschichte eine Migrationsgeschichte?
DESCRIPTION:*This is a partner event. Vortragender: Dr. Heinrich KLINGENBERG\, URANIA Steiermark. Je weiter zurück man forscht\, es kommt mit hoher Wahrscheinlichkeit ein Punkt\, an dem die Vorfahren ganz überraschend aus einer anderen (Welt-)Gegend kommen. Anhand konkreter Beispiele wird gezeigt\, was man da alles daraus lernen kann. Bitte hier anmelden. \n\n\n\n\n\nCentral Europe time zone | online | German
URL:https://iggp.org/event/jede-familiengeschichte-eine-migrationsgeschichte/
ATTACH;FMTTYPE=image/jpeg:https://iggp.org/wp-content/uploads/2023/11/familieaustriadefault.jpg
END:VEVENT
BEGIN:VEVENT
DTSTART;TZID=America/Denver:20260120T190000
DTEND;TZID=America/Denver:20260120T190000
DTSTAMP:20260419T131406
CREATED:20251230T161943Z
LAST-MODIFIED:20251230T161947Z
UID:8594-1768935600-1768935600@iggp.org
SUMMARY:Evaluating the DNA of Palatine Families
DESCRIPTION:*This is a partner event. This program will focus on how DNA can be used as a tool to enhance family history\, particularly as we use DNA to link families together and discover new details about our ancestors. The talk will give detailed examples among families who lived in the Palatineregion of Germany\, and among Swiss-German who settled in the Palatinate for several generations from the mid-1600s to mid-1700s before immigrating to Pennsylvania. Presenter: Darvin L Martin. Register. \n\n\n\n\n\nEastern time zone | online | English
URL:https://iggp.org/event/evaluating-the-dna-of-palatine-families/
ATTACH;FMTTYPE=image/png:https://iggp.org/wp-content/uploads/2025/12/Marvin-Darvin.png
END:VEVENT
BEGIN:VEVENT
DTSTART;TZID=America/Denver:20260117T130000
DTEND;TZID=America/Denver:20260117T130000
DTSTAMP:20260419T131406
CREATED:20251221T185529Z
LAST-MODIFIED:20251230T155436Z
UID:8546-1768654800-1768654800@iggp.org
SUMMARY:CompGen (genealogy.net) and Beyond: Discover the Online Records of German Genealogy Societies
DESCRIPTION:*This is a partner event. Presenter: Timo Kracke. In addition to the large CompGen databases\, many German genealogical societies offer individual databases specifically related to their field of research. Discover what is available in your research region. Details. \n\n\n\n\n\nCentral time zone | hybrid | English
URL:https://iggp.org/event/compgen-genealogy-net-and-beyond-discover-the-online-records-of-german-genealogy-societies/
ATTACH;FMTTYPE=image/jpeg:https://iggp.org/wp-content/uploads/2024/09/1724883132_timo_fortwayne_ogf.jpg
END:VEVENT
BEGIN:VEVENT
DTSTART;TZID=Europe/Vienna:20260114T180000
DTEND;TZID=Europe/Vienna:20260114T180000
DTSTAMP:20260419T131406
CREATED:20251231T220216Z
LAST-MODIFIED:20251231T220221Z
UID:8620-1768413600-1768413600@iggp.org
SUMMARY:Verkündbücher - kleine Mosaiksteinchen zur Geschichte einer Pfarre\, eines Ortes\, einer Familie?
DESCRIPTION:*This is a partner event. Vortragende: Veronika SPARI\, Wies. Was sind Verkündbücher und welche Informationen kann man aus ihnen herauslesen? Zum Beispiel Hierarchie in Pfarre und Gemeinde\, Obrigkeitshörigkeit\, Spendenfreudigkeit\, Ablauf von kirchlichen Zeremonien wie Fronleichnam usw.\, Probleme\, die sich mit der Auflösung der Grundherrschaften 1848 ergeben usw. Bitte hier anmelden. \n\n\n\n\n\nCentral Europe time zone | online | German
URL:https://iggp.org/event/verkundbucher-kleine-mosaiksteinchen-zur-geschichte-einer-pfarre-eines-ortes-einer-familie/
ATTACH;FMTTYPE=image/jpeg:https://iggp.org/wp-content/uploads/2023/11/familieaustriadefault.jpg
END:VEVENT
BEGIN:VEVENT
DTSTART;TZID=America/Denver:20260114T173000
DTEND;TZID=America/Denver:20260114T180000
DTSTAMP:20260419T131406
CREATED:20251221T184754Z
LAST-MODIFIED:20251221T184758Z
UID:8544-1768411800-1768413600@iggp.org
SUMMARY:Curious about your German Russian roots?
DESCRIPTION:*This is a partner event. Curious about your German Russian roots but not sure where to start? Join us for Beginner Genealogy Talks — short\, 20–30 minute sessions designed to make family history research approachable and fun. Each quarterly talk focuses on beginner-friendly topics\, offering practical tips and resources to help you start (or restart!) your journey of discovery. These quick\, informative sessions are the perfect way to learn something new\, connect with others\, and grow your skills throughout the year. $10 fee for non-members. Register. \n\n\n\n\n\nCentral time zone | online | English
URL:https://iggp.org/event/curious-about-your-german-russian-roots/
ATTACH;FMTTYPE=image/jpeg:https://iggp.org/wp-content/uploads/2023/11/ahsgrdefault.jpg
END:VEVENT
BEGIN:VEVENT
DTSTART;TZID=America/Denver:20260113T190000
DTEND;TZID=America/Denver:20260113T190000
DTSTAMP:20260419T131406
CREATED:20260108T003709Z
LAST-MODIFIED:20260108T003717Z
UID:8659-1768330800-1768330800@iggp.org
SUMMARY:Manuskripte und Textquellen für die Genealogie - Digitale Sammlungen im Archivportal NRW
DESCRIPTION:This is a partner event. Roland-Online-Vortrag mit dem Referenten Volker Wilmsen von der Westfälischen Gesellschaft für Genealogie und Familienforschung. Einladung mit Teilnahmemöglichkeit. \n\n\n\n\n\nCentral Europe time zone | online | German
URL:https://iggp.org/event/manuskripte-und-textquellen-fur-die-genealogie-digitale-sammlungen-im-archivportal-nrw/
ATTACH;FMTTYPE=image/png:https://iggp.org/wp-content/uploads/2024/10/roland.png
END:VEVENT
BEGIN:VEVENT
DTSTART;TZID=America/Denver:20260111T190000
DTEND;TZID=America/Denver:20260111T190000
DTSTAMP:20260419T131406
CREATED:20260108T004314Z
LAST-MODIFIED:20260108T004318Z
UID:8661-1768158000-1768158000@iggp.org
SUMMARY:25 Jahre Ahnenforscher Stammtisch Unna
DESCRIPTION:This is a partner event. Online-Geburtstagsständchen. Ein Online-Beisammensein mit netten Gesprächen\, Erinnerungen und Rückblicken. Einladung mit Teilnahmemöglichkeit. \n\n\n\n\n\nCentral Europe time zone | online | German
URL:https://iggp.org/event/25-jahre-ahnenforscher-stammtisch-unna/
ATTACH;FMTTYPE=image/jpeg:https://iggp.org/wp-content/uploads/2024/01/ahnenlogo.jpg
END:VEVENT
BEGIN:VEVENT
DTSTART;TZID=America/Denver:20260110T103000
DTEND;TZID=America/Denver:20260110T120000
DTSTAMP:20260419T131406
CREATED:20251221T182452Z
LAST-MODIFIED:20251221T182457Z
UID:8542-1768041000-1768046400@iggp.org
SUMMARY:Using Historic Newspapers to Learn More About Your German Ancestor
DESCRIPTION:*This is a partner event. Presenter: Baerbel K. Johnson\, AG®️Discover why historic newspapers are a genealogy goldmine! See how newspapers can reveal far more than basic facts—offering clues about names\, hometowns\, occupations\, migration patterns\, and surprising stories that bring your family history to life. From obituaries and community announcements to advertisements and social notes\, these rich sources often hold the details you didn’t know you were missing for your German ancestor. Join the program online through the DGS website. \n\n\n\n\n\nCentral time zone | hybrid | English
URL:https://iggp.org/event/using-historic-newspapers-to-learn-more-about-your-german-ancestor/
ATTACH;FMTTYPE=image/png:https://iggp.org/wp-content/uploads/2024/11/dallas.png
END:VEVENT
BEGIN:VEVENT
DTSTART;TZID=America/Denver:20260109T190000
DTEND;TZID=America/Denver:20260109T190000
DTSTAMP:20260419T131406
CREATED:20260104T153702Z
LAST-MODIFIED:20260104T153931Z
UID:8647-1767985200-1767985200@iggp.org
SUMMARY:Roland-Online-Werkstatt für Familienforschung
DESCRIPTION:This is a partner event. Tipps und Hilfen rund um die Genealogie. Teilnahmemöglichkeit. \n\n\n\n\n\nCentral Europe time zone | online | German
URL:https://iggp.org/event/roland-online-werkstatt-fur-familienforschung-11/
ATTACH;FMTTYPE=image/png:https://iggp.org/wp-content/uploads/2024/10/roland.png
END:VEVENT
BEGIN:VEVENT
DTSTART;TZID=America/Denver:20260109T123000
DTEND;TZID=America/Denver:20260109T123000
DTSTAMP:20260419T131406
CREATED:20251231T223505Z
LAST-MODIFIED:20251231T223714Z
UID:8636-1767961800-1767961800@iggp.org
SUMMARY:Free Websites for German Genealogy
DESCRIPTION:This is a partner event. Presenter: Josiah Schmidt. Take a guided exploration of how to access and use numerous free websites for your German family history research. Details. \n\n\n\n\n\nPacific time zone | online | English
URL:https://iggp.org/event/free-websites-for-german-genealogy-2/
ATTACH;FMTTYPE=image/png:https://iggp.org/wp-content/uploads/2025/12/JosiahSchmidt.png
END:VEVENT
BEGIN:VEVENT
DTSTART;TZID=America/Denver:20260108T193000
DTEND;TZID=America/Denver:20260108T203000
DTSTAMP:20260419T131407
CREATED:20251221T233025Z
LAST-MODIFIED:20251221T233028Z
UID:8536-1767900600-1767904200@iggp.org
SUMMARY:Finding German Church Records on Archion
DESCRIPTION:*This is a partner event. Presenter: Dana Palmer. Once you’ve identified your German ancestor’s place of origin\, then what? Come learn how to find the Lutheran church records on Archion. Members only. Become a member. \n\n\n\n\n\nEastern time zone | online | English
URL:https://iggp.org/event/finding-german-church-records-on-archion/
ATTACH;FMTTYPE=image/jpeg:https://iggp.org/wp-content/uploads/2024/04/palmer-dana.jpg
END:VEVENT
BEGIN:VEVENT
DTSTART;TZID=America/Denver:20260108T190000
DTEND;TZID=America/Denver:20260108T190000
DTSTAMP:20260419T131407
CREATED:20260102T173033Z
LAST-MODIFIED:20260102T173038Z
UID:8645-1767898800-1767898800@iggp.org
SUMMARY:Die weibliche Seite der Genealogie - Warum die Suche nach den Vorfahrinnen mit Problematiken verbunden sein kann
DESCRIPTION:This is a partner event. Online-Vortrag mit der Referentin Tamara Block vom Archiv der deutschen Frauenbewegung in Kassel. Einladung mit Teilnahmemöglichkeit \n\n\n\n\n\nCentral Europe time zone | online | German
URL:https://iggp.org/event/die-weibliche-seite-der-genealogie-warum-die-suche-nach-den-vorfahrinnen-mit-problematiken-verbunden-sein-kann/
ATTACH;FMTTYPE=image/jpeg:https://iggp.org/wp-content/uploads/2024/01/ahnenlogo.jpg
END:VEVENT
BEGIN:VEVENT
DTSTART;TZID=America/Denver:20260107T180000
DTEND;TZID=America/Denver:20260107T180000
DTSTAMP:20260419T131407
CREATED:20251231T214005Z
LAST-MODIFIED:20251231T214112Z
UID:8618-1767808800-1767808800@iggp.org
SUMMARY:Der Mensch ist\, was er ißt
DESCRIPTION:*This is a partner event. Vortragende: Angelika SCHMALBACH. Vergleich der Ernährung von Bauern\, Bürgern\, Adeligen Geistlichen im 18. Jahrhundert. Bitte hier anmelden. \n\n\n\n\n\nCentral Europe time zone | online | German
URL:https://iggp.org/event/der-mensch-ist-was-er-ist/
ATTACH;FMTTYPE=image/jpeg:https://iggp.org/wp-content/uploads/2023/11/familieaustriadefault.jpg
END:VEVENT
BEGIN:VEVENT
DTSTART;TZID=America/Denver:20251231T180000
DTEND;TZID=America/Denver:20251231T180000
DTSTAMP:20260419T131407
CREATED:20251116T234956Z
LAST-MODIFIED:20251116T235001Z
UID:8513-1767204000-1767204000@iggp.org
SUMMARY:Das alltägliche Leben von Handwerkern\, Bauern und Kaufleuten im 17. Jahrhundert
DESCRIPTION:This is a partner event. Eine kleine Betrachtung: Stadt\, Markt\, Dorf (die Unterschiede); zünftige und andere Handwerker; der Tagesablauf; die Nahrungspflanzen; die Nutztiere; Bräuche und Religiosität; das Fasten; die Plagen: Einquartierungen\, Seuchen\, Hexenwahn\, Kriege; usw. Vortragender: Günter OFNER. Bitte hier anmelden.
URL:https://iggp.org/event/das-alltagliche-leben-von-handwerkern-bauern-und-kaufleuten-im-17-jahrhundert/
ATTACH;FMTTYPE=image/jpeg:https://iggp.org/wp-content/uploads/2023/11/familieaustriadefault.jpg
END:VEVENT
BEGIN:VEVENT
DTSTART;TZID=America/Denver:20251217T180000
DTEND;TZID=America/Denver:20251217T180000
DTSTAMP:20260419T131407
CREATED:20251116T234441Z
LAST-MODIFIED:20251116T234446Z
UID:8511-1765994400-1765994400@iggp.org
SUMMARY:Die Kurrentschrift – Leseseminar für Anfänger und Fortgeschrittene
DESCRIPTION:This is a partner event. Leitung: Günter OFNER. Bitte hier anmelden. \n\n\n\n\n\nCentral Europe time zone | online | German
URL:https://iggp.org/event/die-kurrentschrift-leseseminar-fur-anfanger-und-fortgeschrittene-4/
ATTACH;FMTTYPE=image/jpeg:https://iggp.org/wp-content/uploads/2023/11/familieaustriadefault.jpg
END:VEVENT
BEGIN:VEVENT
DTSTART;TZID=America/Denver:20251211T130000
DTEND;TZID=America/Denver:20251211T130000
DTSTAMP:20260419T131407
CREATED:20251025T153625Z
LAST-MODIFIED:20251025T153630Z
UID:8462-1765458000-1765458000@iggp.org
SUMMARY:Mecklenburg presentation on history and how to find resources to locate your family
DESCRIPTION:Presenter: Andrea Bentschneider. This presentation will begin with a journey through Mecklenburg-Schwerin and Mecklenburg-Strelitz – highlighting their cultural and political development over the centuries. We will explore available genealogical resources\, both online and in archives\, that can help you uncover your family’s past. Emphasis will be on church records\, civil records\, and the Mecklenburg census. You will also learn about other sources\, such as family records and emigration documents. Andrea Bentschneider is a leading expert in German genealogy with over two decades of experience helping families connect with their German roots. Register. \n\n\n\n\n\nCentral time zone | online | English
URL:https://iggp.org/event/mecklenburg-presentation-on-history-and-how-to-find-resources-to-locate-your-family/
ATTACH;FMTTYPE=image/jpeg:https://iggp.org/wp-content/uploads/2025/03/Bentschneider-Andrea.jpg
END:VEVENT
BEGIN:VEVENT
DTSTART;TZID=America/Denver:20251210T180000
DTEND;TZID=America/Denver:20251210T180000
DTSTAMP:20260419T131407
CREATED:20251116T234042Z
LAST-MODIFIED:20251116T234046Z
UID:8509-1765389600-1765389600@iggp.org
SUMMARY:Die vielen Sprachen der Österreich-Ungarischen Monarchie
DESCRIPTION:This is a partner event. Muttersprachen\, Umgangssprachen\, Schriftsprachen\, Literatursprachen\, Unterrichtssprachen\, Bildungssprachen\, Vorlesungssprachen\, Amtssprachen\, Kommandosprachen\, Dienstsprachen und Regimentssprachen. Vortragender: Günter OFNER. Bitte hier anmelden. \n\n\n\n\n\nCentral Europe time zone | online | German
URL:https://iggp.org/event/die-vielen-sprachen-der-osterreich-ungarischen-monarchie/
ATTACH;FMTTYPE=image/jpeg:https://iggp.org/wp-content/uploads/2023/11/familieaustriadefault.jpg
END:VEVENT
BEGIN:VEVENT
DTSTART;TZID=America/Denver:20251205T123000
DTEND;TZID=America/Denver:20251205T123000
DTSTAMP:20260419T131407
CREATED:20251116T193901Z
LAST-MODIFIED:20251116T193908Z
UID:8501-1764937800-1764937800@iggp.org
SUMMARY:Frohe Weihnachten: Unwrapping the Charms of German Christmas Traditions
DESCRIPTION:This is a partner event. Uncover the rich history and cultural significance behind cherished customs such as the Advent calendar\, Christkindlmarkt\, and St. Nicholas Day. Delve into the heartwarming tales of the Christkind and the festive decoration of the Tannenbaum\, while also exploring the delectable delights of traditional holiday treats like Lebkuchen and Stollen.  Join German historian Anette Isaacs and journey through time and tradition\, exploring how Germany’s unique customs have shaped the magic of Christmas celebrations worldwide. Register. \n\n\n\n\n\nPacific time zone | online | English
URL:https://iggp.org/event/frohe-weihnachten-unwrapping-the-charms-of-german-christmas-traditions/
ATTACH;FMTTYPE=image/png:https://iggp.org/wp-content/uploads/2025/11/Isaacs.png
END:VEVENT
END:VCALENDAR